Package: twoddpcr Version: 1.26.0 Command: /home/biocbuild/bbs-3.18-bioc/R/bin/R CMD check --install=check:twoddpcr.install-out.txt --library=/home/biocbuild/bbs-3.18-bioc/R/site-library --timings twoddpcr_1.26.0.tar.gz StartedAt: 2024-04-16 05:00:36 -0400 (Tue, 16 Apr 2024) EndedAt: 2024-04-16 05:06:10 -0400 (Tue, 16 Apr 2024) EllapsedTime: 333.8 seconds RetCode: 0 Status: OK CheckDir: twoddpcr.Rcheck Warnings: 0