Package: twoddpcr Version: 1.26.0 Command: /home/biocbuild/bbs-3.18-bioc/R/bin/R CMD build --keep-empty-dirs --no-resave-data twoddpcr StartedAt: 2024-04-15 19:40:41 -0400 (Mon, 15 Apr 2024) EndedAt: 2024-04-15 19:43:02 -0400 (Mon, 15 Apr 2024) EllapsedTime: 141.4 seconds RetCode: 0 Status: OK PackageFile: twoddpcr_1.26.0.tar.gz PackageFileSize: 3.66 MiB