Package: twoddpcr Version: 1.26.0 Command: /Library/Frameworks/R.framework/Resources/bin/R CMD check --install=check:twoddpcr.install-out.txt --library=/Library/Frameworks/R.framework/Resources/library --no-vignettes --timings twoddpcr_1.26.0.tar.gz StartedAt: 2024-04-16 10:15:01 -0400 (Tue, 16 Apr 2024) EndedAt: 2024-04-16 10:19:18 -0400 (Tue, 16 Apr 2024) EllapsedTime: 257.3 seconds RetCode: 0 Status: OK CheckDir: twoddpcr.Rcheck Warnings: 0