Package: twoddpcr Version: 1.26.0 Command: /Library/Frameworks/R.framework/Resources/bin/R CMD build --keep-empty-dirs --no-resave-data twoddpcr StartedAt: 2024-04-15 22:41:17 -0400 (Mon, 15 Apr 2024) EndedAt: 2024-04-15 22:47:04 -0400 (Mon, 15 Apr 2024) EllapsedTime: 347.4 seconds RetCode: 0 Status: OK PackageFile: twoddpcr_1.26.0.tar.gz PackageFileSize: 3.968 MiB