Package: twoddpcr Version: 1.26.0 Command: /Library/Frameworks/R.framework/Resources/bin/R CMD INSTALL twoddpcr StartedAt: 2024-03-03 15:27:42 -0500 (Sun, 03 Mar 2024) EndedAt: 2024-03-03 15:27:59 -0500 (Sun, 03 Mar 2024) EllapsedTime: 17.0 seconds RetCode: 0 Status: OK