Package: twilight Version: 1.78.0 Command: F:\biocbuild\bbs-3.18-bioc\R\bin\R.exe CMD INSTALL twilight StartedAt: 2024-04-15 15:38:54 -0400 (Mon, 15 Apr 2024) EndedAt: 2024-04-15 15:39:10 -0400 (Mon, 15 Apr 2024) EllapsedTime: 16.8 seconds RetCode: 0 Status: OK