Package: twilight Version: 1.78.0 Command: rm -rf twilight.buildbin-libdir && mkdir twilight.buildbin-libdir && F:\biocbuild\bbs-3.18-bioc\R\bin\R.exe CMD INSTALL --build --library=twilight.buildbin-libdir twilight_1.78.0.tar.gz StartedAt: 2024-04-16 07:49:56 -0400 (Tue, 16 Apr 2024) EndedAt: 2024-04-16 07:50:18 -0400 (Tue, 16 Apr 2024) EllapsedTime: 21.8 seconds RetCode: 0 Status: OK PackageFile: twilight_1.78.0.zip PackageFileSize: 979 KiB