Package: twilight Version: 1.78.0 Command: /Library/Frameworks/R.framework/Resources/bin/R CMD INSTALL twilight StartedAt: 2024-04-15 15:07:09 -0400 (Mon, 15 Apr 2024) EndedAt: 2024-04-15 15:07:24 -0400 (Mon, 15 Apr 2024) EllapsedTime: 15.0 seconds RetCode: 0 Status: OK