Package: twilight Version: 1.78.0 Command: /Library/Frameworks/R.framework/Resources/bin/R CMD INSTALL twilight StartedAt: 2024-03-03 15:05:38 -0500 (Sun, 03 Mar 2024) EndedAt: 2024-03-03 15:06:02 -0500 (Sun, 03 Mar 2024) EllapsedTime: 24.4 seconds RetCode: 0 Status: OK