Package: twilight Version: 1.78.0 Command: /home/biocbuild/R/R-4.3.1/bin/R CMD INSTALL twilight StartedAt: 2023-11-01 20:06:32 -0000 (Wed, 01 Nov 2023) EndedAt: 2023-11-01 20:06:48 -0000 (Wed, 01 Nov 2023) EllapsedTime: 15.9 seconds RetCode: 0 Status: OK