Package: twilight Version: 1.78.0 Command: /home/biocbuild/R/R-4.3.1/bin/R CMD build --keep-empty-dirs --no-resave-data twilight StartedAt: 2023-11-02 07:17:02 -0000 (Thu, 02 Nov 2023) EndedAt: 2023-11-02 07:18:34 -0000 (Thu, 02 Nov 2023) EllapsedTime: 92.6 seconds RetCode: 0 Status: OK PackageFile: twilight_1.78.0.tar.gz PackageFileSize: 1.181 MiB