Package: tweeDEseq Version: 1.48.0 Command: /Library/Frameworks/R.framework/Resources/bin/R CMD check --install=check:tweeDEseq.install-out.txt --library=/Library/Frameworks/R.framework/Resources/library --no-vignettes --timings tweeDEseq_1.48.0.tar.gz StartedAt: 2024-03-04 00:05:12 -0500 (Mon, 04 Mar 2024) EndedAt: 2024-03-04 00:06:03 -0500 (Mon, 04 Mar 2024) EllapsedTime: 50.6 seconds RetCode: 0 Status: WARNINGS CheckDir: tweeDEseq.Rcheck Warnings: 1