Package: ttgsea Version: 1.10.0 Command: chmod a+r ttgsea -R && F:\biocbuild\bbs-3.18-bioc\R\bin\R.exe CMD build --keep-empty-dirs --no-resave-data ttgsea StartedAt: 2024-04-15 21:50:46 -0400 (Mon, 15 Apr 2024) EndedAt: 2024-04-15 21:52:25 -0400 (Mon, 15 Apr 2024) EllapsedTime: 98.6 seconds RetCode: 0 Status: OK PackageFile: ttgsea_1.10.0.tar.gz PackageFileSize: 906 KiB