Package: ttgsea Version: 1.10.0 Command: /Library/Frameworks/R.framework/Resources/bin/R CMD build --keep-empty-dirs --no-resave-data ttgsea StartedAt: 2024-03-03 18:39:05 -0500 (Sun, 03 Mar 2024) EndedAt: 2024-03-03 18:40:07 -0500 (Sun, 03 Mar 2024) EllapsedTime: 62.1 seconds RetCode: 0 Status: OK PackageFile: ttgsea_1.10.0.tar.gz PackageFileSize: 905.6 KiB