Package: ttgsea Version: 1.10.0 Command: rm -rf ttgsea.buildbin-libdir && mkdir ttgsea.buildbin-libdir && /Users/biocbuild/BBS/utils/build-universal.sh ttgsea_1.10.0.tar.gz /Library/Frameworks/R.framework/Resources/bin/R ttgsea.buildbin-libdir StartedAt: 2024-03-04 01:09:49 -0500 (Mon, 04 Mar 2024) EndedAt: 2024-03-04 01:10:06 -0500 (Mon, 04 Mar 2024) EllapsedTime: 17.6 seconds RetCode: 0 Status: OK PackageFile: ttgsea_1.10.0.tgz PackageFileSize: 820.6 KiB