Package: ttgsea Version: 1.10.0 Command: /home/biocbuild/R/R-4.3.1/bin/R CMD INSTALL ttgsea StartedAt: 2023-11-01 21:01:53 -0000 (Wed, 01 Nov 2023) EndedAt: 2023-11-01 21:02:07 -0000 (Wed, 01 Nov 2023) EllapsedTime: 14.1 seconds RetCode: 0 Status: OK