Package: ttgsea Version: 1.10.0 Command: /home/biocbuild/R/R-4.3.1/bin/R CMD build --keep-empty-dirs --no-resave-data ttgsea StartedAt: 2023-11-02 07:16:24 -0000 (Thu, 02 Nov 2023) EndedAt: 2023-11-02 07:17:45 -0000 (Thu, 02 Nov 2023) EllapsedTime: 81.1 seconds RetCode: 0 Status: OK PackageFile: ttgsea_1.10.0.tar.gz PackageFileSize: 1.158 MiB