Package: tripr Version: 1.8.0 Command: /Library/Frameworks/R.framework/Resources/bin/R CMD build --keep-empty-dirs --no-resave-data tripr StartedAt: 2024-03-03 18:38:31 -0500 (Sun, 03 Mar 2024) EndedAt: 2024-03-03 18:39:05 -0500 (Sun, 03 Mar 2024) EllapsedTime: 33.7 seconds RetCode: 0 Status: OK PackageFile: tripr_1.8.0.tar.gz PackageFileSize: 2.929 MiB