Package: tripr Version: 1.8.0 Command: /home/biocbuild/R/R-4.3.1/bin/R CMD check --install=check:tripr.install-out.txt --library=/home/biocbuild/R/R-4.3.1/site-library --no-vignettes --timings tripr_1.8.0.tar.gz StartedAt: 2023-11-02 15:04:28 -0000 (Thu, 02 Nov 2023) EndedAt: 2023-11-02 15:06:20 -0000 (Thu, 02 Nov 2023) EllapsedTime: 112.2 seconds RetCode: 0 Status: OK CheckDir: tripr.Rcheck Warnings: 0