Package: trio Version: 3.40.0 Command: chmod a+r trio -R && F:\biocbuild\bbs-3.18-bioc\R\bin\R.exe CMD build --keep-empty-dirs --no-resave-data trio StartedAt: 2024-04-15 21:49:33 -0400 (Mon, 15 Apr 2024) EndedAt: 2024-04-15 21:50:40 -0400 (Mon, 15 Apr 2024) EllapsedTime: 66.6 seconds RetCode: 0 Status: OK PackageFile: trio_3.40.0.tar.gz PackageFileSize: 692.2 KiB