Package: trio Version: 3.40.0 Command: /Library/Frameworks/R.framework/Resources/bin/R CMD INSTALL trio StartedAt: 2024-04-15 16:16:08 -0400 (Mon, 15 Apr 2024) EndedAt: 2024-04-15 16:17:06 -0400 (Mon, 15 Apr 2024) EllapsedTime: 57.9 seconds RetCode: 0 Status: OK