Package: trio Version: 3.40.0 Command: /Library/Frameworks/R.framework/Resources/bin/R CMD build --keep-empty-dirs --no-resave-data trio StartedAt: 2024-03-03 18:38:22 -0500 (Sun, 03 Mar 2024) EndedAt: 2024-03-03 18:39:22 -0500 (Sun, 03 Mar 2024) EllapsedTime: 59.4 seconds RetCode: 0 Status: OK PackageFile: trio_3.40.0.tar.gz PackageFileSize: 747.6 KiB