Package: tricycle Version: 1.10.0 Command: rm -rf tricycle.buildbin-libdir && mkdir tricycle.buildbin-libdir && /Users/biocbuild/BBS/utils/build-universal.sh tricycle_1.10.0.tar.gz /Library/Frameworks/R.framework/Resources/bin/R tricycle.buildbin-libdir StartedAt: 2024-03-04 01:09:35 -0500 (Mon, 04 Mar 2024) EndedAt: 2024-03-04 01:10:27 -0500 (Mon, 04 Mar 2024) EllapsedTime: 52.4 seconds RetCode: 0 Status: OK PackageFile: tricycle_1.10.0.tgz PackageFileSize: 4.097 MiB