Package: trena Version: 1.24.0 Command: /Library/Frameworks/R.framework/Resources/bin/R CMD check --install=check:trena.install-out.txt --library=/Library/Frameworks/R.framework/Resources/library --no-vignettes --timings trena_1.24.0.tar.gz StartedAt: 2024-04-16 10:07:21 -0400 (Tue, 16 Apr 2024) EndedAt: 2024-04-16 10:31:49 -0400 (Tue, 16 Apr 2024) EllapsedTime: 1468.3 seconds RetCode: 0 Status: WARNINGS CheckDir: trena.Rcheck Warnings: 3