Package: treekoR Version: 1.10.0 Command: rm -rf treekoR.buildbin-libdir && mkdir treekoR.buildbin-libdir && /Users/biocbuild/BBS/utils/build-universal.sh treekoR_1.10.0.tar.gz /Library/Frameworks/R.framework/Resources/bin/R treekoR.buildbin-libdir StartedAt: 2024-03-04 01:09:24 -0500 (Mon, 04 Mar 2024) EndedAt: 2024-03-04 01:10:17 -0500 (Mon, 04 Mar 2024) EllapsedTime: 52.4 seconds RetCode: 0 Status: OK PackageFile: treekoR_1.10.0.tgz PackageFileSize: 1.646 MiB