Package: treeio Version: 1.26.0 Command: /Library/Frameworks/R.framework/Resources/bin/R CMD INSTALL treeio StartedAt: 2024-03-03 15:11:15 -0500 (Sun, 03 Mar 2024) EndedAt: 2024-03-03 15:11:26 -0500 (Sun, 03 Mar 2024) EllapsedTime: 10.1 seconds RetCode: 0 Status: OK