Package: traviz Version: 1.8.0 Command: /Library/Frameworks/R.framework/Resources/bin/R CMD build --keep-empty-dirs --no-resave-data traviz StartedAt: 2024-03-03 18:37:57 -0500 (Sun, 03 Mar 2024) EndedAt: 2024-03-03 18:38:54 -0500 (Sun, 03 Mar 2024) EllapsedTime: 56.3 seconds RetCode: 0 Status: OK PackageFile: traviz_1.8.0.tar.gz PackageFileSize: 3.1 MiB