Package: traseR Version: 1.32.0 Command: F:\biocbuild\bbs-3.18-bioc\R\bin\R.exe CMD check --no-multiarch --install=check:traseR.install-out.txt --library=F:\biocbuild\bbs-3.18-bioc\R\library --no-vignettes --timings traseR_1.32.0.tar.gz StartedAt: 2024-04-16 05:57:28 -0400 (Tue, 16 Apr 2024) EndedAt: 2024-04-16 06:02:00 -0400 (Tue, 16 Apr 2024) EllapsedTime: 271.6 seconds RetCode: 0 Status: OK CheckDir: traseR.Rcheck Warnings: 0