Package: traseR Version: 1.32.0 Command: chmod a+r traseR -R && F:\biocbuild\bbs-3.18-bioc\R\bin\R.exe CMD build --keep-empty-dirs --no-resave-data traseR StartedAt: 2024-04-15 21:48:18 -0400 (Mon, 15 Apr 2024) EndedAt: 2024-04-15 21:49:13 -0400 (Mon, 15 Apr 2024) EllapsedTime: 54.8 seconds RetCode: 0 Status: OK PackageFile: traseR_1.32.0.tar.gz PackageFileSize: 6.222 MiB