Package: traseR Version: 1.32.0 Command: /home/biocbuild/bbs-3.18-bioc/R/bin/R CMD check --install=check:traseR.install-out.txt --library=/home/biocbuild/bbs-3.18-bioc/R/site-library --timings traseR_1.32.0.tar.gz StartedAt: 2024-04-16 04:53:33 -0400 (Tue, 16 Apr 2024) EndedAt: 2024-04-16 04:58:33 -0400 (Tue, 16 Apr 2024) EllapsedTime: 300.0 seconds RetCode: 0 Status: OK CheckDir: traseR.Rcheck Warnings: 0