Package: traseR Version: 1.32.0 Command: /home/biocbuild/R/R-4.3.1/bin/R CMD check --install=check:traseR.install-out.txt --library=/home/biocbuild/R/R-4.3.1/site-library --no-vignettes --timings traseR_1.32.0.tar.gz StartedAt: 2023-11-02 15:01:50 -0000 (Thu, 02 Nov 2023) EndedAt: 2023-11-02 15:07:05 -0000 (Thu, 02 Nov 2023) EllapsedTime: 314.6 seconds RetCode: 0 Status: OK CheckDir: traseR.Rcheck Warnings: 0