Package: transite Version: 1.20.1 Command: /Library/Frameworks/R.framework/Resources/bin/R CMD check --install=check:transite.install-out.txt --library=/Library/Frameworks/R.framework/Resources/library --no-vignettes --timings transite_1.20.1.tar.gz StartedAt: 2024-03-04 00:00:48 -0500 (Mon, 04 Mar 2024) EndedAt: 2024-03-04 00:09:25 -0500 (Mon, 04 Mar 2024) EllapsedTime: 516.8 seconds RetCode: 0 Status: OK CheckDir: transite.Rcheck Warnings: 0