Package: transite Version: 1.20.1 Command: /Library/Frameworks/R.framework/Resources/bin/R CMD build --keep-empty-dirs --no-resave-data transite StartedAt: 2024-03-03 18:37:40 -0500 (Sun, 03 Mar 2024) EndedAt: 2024-03-03 18:38:22 -0500 (Sun, 03 Mar 2024) EllapsedTime: 41.9 seconds RetCode: 0 Status: OK PackageFile: transite_1.20.1.tar.gz PackageFileSize: 631.9 KiB