Package: transformGamPoi Version: 1.8.0 Command: F:\biocbuild\bbs-3.18-bioc\R\bin\R.exe CMD INSTALL transformGamPoi StartedAt: 2024-04-15 16:09:47 -0400 (Mon, 15 Apr 2024) EndedAt: 2024-04-15 16:10:11 -0400 (Mon, 15 Apr 2024) EllapsedTime: 23.4 seconds RetCode: 0 Status: OK