Package: transformGamPoi Version: 1.8.0 Command: rm -rf transformGamPoi.buildbin-libdir && mkdir transformGamPoi.buildbin-libdir && /Users/biocbuild/BBS/utils/build-universal.sh transformGamPoi_1.8.0.tar.gz /Library/Frameworks/R.framework/Resources/bin/R transformGamPoi.buildbin-libdir StartedAt: 2024-03-04 01:09:17 -0500 (Mon, 04 Mar 2024) EndedAt: 2024-03-04 01:09:40 -0500 (Mon, 04 Mar 2024) EllapsedTime: 22.1 seconds RetCode: 0 Status: OK PackageFile: transformGamPoi_1.8.0.tgz PackageFileSize: 685.2 KiB