Package: transformGamPoi Version: 1.7.0 Command: /home/biocbuild/R/R-4.3.1/bin/R CMD check --install=check:transformGamPoi.install-out.txt --library=/home/biocbuild/R/R-4.3.1/site-library --timings transformGamPoi_1.7.0.tar.gz StartedAt: 2023-10-24 14:21:40 -0000 (Tue, 24 Oct 2023) EndedAt: 2023-10-24 14:25:42 -0000 (Tue, 24 Oct 2023) EllapsedTime: 241.4 seconds RetCode: 0 Status: OK CheckDir: transformGamPoi.Rcheck Warnings: 0