Package: transcriptogramer Version: 1.24.0 Command: chmod a+r transcriptogramer -R && F:\biocbuild\bbs-3.18-bioc\R\bin\R.exe CMD build --keep-empty-dirs --no-resave-data transcriptogramer StartedAt: 2024-04-15 21:47:27 -0400 (Mon, 15 Apr 2024) EndedAt: 2024-04-15 22:02:40 -0400 (Mon, 15 Apr 2024) EllapsedTime: 913.0 seconds RetCode: 0 Status: OK PackageFile: transcriptogramer_1.24.0.tar.gz PackageFileSize: 3.63 MiB