Package: transcriptogramer Version: 1.24.0 Command: /Library/Frameworks/R.framework/Resources/bin/R CMD check --install=check:transcriptogramer.install-out.txt --library=/Library/Frameworks/R.framework/Resources/library --no-vignettes --timings transcriptogramer_1.24.0.tar.gz StartedAt: 2024-04-16 10:03:12 -0400 (Tue, 16 Apr 2024) EndedAt: 2024-04-16 10:10:48 -0400 (Tue, 16 Apr 2024) EllapsedTime: 455.6 seconds RetCode: 0 Status: OK CheckDir: transcriptogramer.Rcheck Warnings: 0