Package: transcriptogramer Version: 1.24.0 Command: /Library/Frameworks/R.framework/Resources/bin/R CMD build --keep-empty-dirs --no-resave-data transcriptogramer StartedAt: 2024-04-15 22:36:56 -0400 (Mon, 15 Apr 2024) EndedAt: 2024-04-15 23:00:38 -0400 (Mon, 15 Apr 2024) EllapsedTime: 1422.2 seconds RetCode: 0 Status: OK PackageFile: transcriptogramer_1.24.0.tar.gz PackageFileSize: 3.63 MiB