Package: transcriptogramer Version: 1.24.0 Command: rm -rf transcriptogramer.buildbin-libdir && mkdir transcriptogramer.buildbin-libdir && /Users/biocbuild/BBS/utils/build-universal.sh transcriptogramer_1.24.0.tar.gz /Library/Frameworks/R.framework/Resources/bin/R transcriptogramer.buildbin-libdir StartedAt: 2024-03-04 01:09:17 -0500 (Mon, 04 Mar 2024) EndedAt: 2024-03-04 01:10:03 -0500 (Mon, 04 Mar 2024) EllapsedTime: 45.1 seconds RetCode: 0 Status: OK PackageFile: transcriptogramer_1.24.0.tgz PackageFileSize: 5.929 MiB