Package: transcriptogramer Version: 1.23.0 Command: /home/biocbuild/R/R-4.3.1/bin/R CMD check --install=check:transcriptogramer.install-out.txt --library=/home/biocbuild/R/R-4.3.1/site-library --timings transcriptogramer_1.23.0.tar.gz StartedAt: 2023-10-20 13:55:14 -0000 (Fri, 20 Oct 2023) EndedAt: 2023-10-20 14:20:36 -0000 (Fri, 20 Oct 2023) EllapsedTime: 1522.5 seconds RetCode: 0 Status: OK CheckDir: transcriptogramer.Rcheck Warnings: 0