Package: tradeSeq Version: 1.16.0 Command: rm -rf tradeSeq.buildbin-libdir && mkdir tradeSeq.buildbin-libdir && /Users/biocbuild/BBS/utils/build-universal.sh tradeSeq_1.16.0.tar.gz /Library/Frameworks/R.framework/Resources/bin/R tradeSeq.buildbin-libdir StartedAt: 2024-03-04 01:09:15 -0500 (Mon, 04 Mar 2024) EndedAt: 2024-03-04 01:10:05 -0500 (Mon, 04 Mar 2024) EllapsedTime: 49.9 seconds RetCode: 0 Status: OK PackageFile: tradeSeq_1.16.0.tgz PackageFileSize: 4.703 MiB