Package: tradeSeq Version: 1.16.0 Command: /home/biocbuild/R/R-4.3.1/bin/R CMD INSTALL tradeSeq StartedAt: 2023-11-01 20:17:42 -0000 (Wed, 01 Nov 2023) EndedAt: 2023-11-01 20:18:25 -0000 (Wed, 01 Nov 2023) EllapsedTime: 43.3 seconds RetCode: 0 Status: OK