Package: tradeSeq Version: 1.15.0 Command: /home/biocbuild/R/R-4.3.1/bin/R CMD check --install=check:tradeSeq.install-out.txt --library=/home/biocbuild/R/R-4.3.1/site-library --timings tradeSeq_1.15.0.tar.gz StartedAt: 2023-10-13 13:33:59 -0000 (Fri, 13 Oct 2023) EndedAt: 2023-10-13 14:11:07 -0000 (Fri, 13 Oct 2023) EllapsedTime: 2228.6 seconds RetCode: 0 Status: OK CheckDir: tradeSeq.Rcheck Warnings: 0