Package: trackViewer Version: 1.38.2 Command: chmod a+r trackViewer -R && F:\biocbuild\bbs-3.18-bioc\R\bin\R.exe CMD build --keep-empty-dirs --no-resave-data trackViewer StartedAt: 2024-04-15 21:46:48 -0400 (Mon, 15 Apr 2024) EndedAt: 2024-04-15 21:59:18 -0400 (Mon, 15 Apr 2024) EllapsedTime: 749.9 seconds RetCode: 0 Status: OK PackageFile: trackViewer_1.38.2.tar.gz PackageFileSize: 5.587 MiB