Package: trackViewer Version: 1.38.2 Command: /home/biocbuild/bbs-3.18-bioc/R/bin/R CMD check --install=check:trackViewer.install-out.txt --library=/home/biocbuild/bbs-3.18-bioc/R/site-library --timings trackViewer_1.38.2.tar.gz StartedAt: 2024-04-16 04:50:58 -0400 (Tue, 16 Apr 2024) EndedAt: 2024-04-16 05:21:53 -0400 (Tue, 16 Apr 2024) EllapsedTime: 1855.4 seconds RetCode: 0 Status: OK CheckDir: trackViewer.Rcheck Warnings: 0