Package: trackViewer Version: 1.38.2 Command: rm -rf trackViewer.buildbin-libdir && mkdir trackViewer.buildbin-libdir && /Users/biocbuild/BBS/utils/build-universal.sh trackViewer_1.38.2.tar.gz /Library/Frameworks/R.framework/Resources/bin/R trackViewer.buildbin-libdir StartedAt: 2024-04-16 12:53:24 -0400 (Tue, 16 Apr 2024) EndedAt: 2024-04-16 12:55:34 -0400 (Tue, 16 Apr 2024) EllapsedTime: 129.5 seconds RetCode: 0 Status: OK PackageFile: trackViewer_1.38.2.tgz PackageFileSize: 13.23 MiB