Package: trackViewer Version: 1.38.1 Command: rm -rf trackViewer.buildbin-libdir && mkdir trackViewer.buildbin-libdir && /Users/biocbuild/BBS/utils/build-universal.sh trackViewer_1.38.1.tar.gz /Library/Frameworks/R.framework/Resources/bin/R trackViewer.buildbin-libdir StartedAt: 2024-03-04 01:09:13 -0500 (Mon, 04 Mar 2024) EndedAt: 2024-03-04 01:10:43 -0500 (Mon, 04 Mar 2024) EllapsedTime: 89.9 seconds RetCode: 0 Status: OK PackageFile: trackViewer_1.38.1.tgz PackageFileSize: 10.5 MiB