Package: topdownr Version: 1.24.0 Command: /Library/Frameworks/R.framework/Resources/bin/R CMD build --keep-empty-dirs --no-resave-data topdownr StartedAt: 2024-04-15 22:35:38 -0400 (Mon, 15 Apr 2024) EndedAt: 2024-04-15 22:37:51 -0400 (Mon, 15 Apr 2024) EllapsedTime: 133.3 seconds RetCode: 0 Status: OK PackageFile: topdownr_1.24.0.tar.gz PackageFileSize: 1.535 MiB