Package: topconfects Version: 1.18.0 Command: /home/biocbuild/bbs-3.18-bioc/R/bin/R CMD build --keep-empty-dirs --no-resave-data topconfects StartedAt: 2024-04-15 19:37:06 -0400 (Mon, 15 Apr 2024) EndedAt: 2024-04-15 19:38:56 -0400 (Mon, 15 Apr 2024) EllapsedTime: 109.5 seconds RetCode: 0 Status: OK PackageFile: topconfects_1.18.0.tar.gz PackageFileSize: 1.648 MiB